BEGIN:VCALENDAR
VERSION:2.0
PRODID:-//wp-events-plugin.com//7.2.3.1//EN
TZID:America/Chicago
X-WR-TIMEZONE:America/Chicago
BEGIN:VEVENT
UID:207@jhtraveltours.com
DTSTART;TZID=America/Chicago;VALUE=DATE:20170601
DTEND;TZID=America/Chicago;VALUE=DATE:20170608
DTSTAMP:20161012T021703Z
URL:https://jhtraveltours.com/events/washington-dc-2017/
SUMMARY:Washington DC 2017 - #_LOCATIONNAME - 1 Jun 17 00:00
DESCRIPTION:Enjoy our Nation's Capital\n\nYour trip includes:\n\n 	Motorcoa
 ch transportation\n 	6 nights lodging including 4 consecutive nights in th
 e Washington\, DC area\n 	10 meals: 6 breakfasts and 4 dinners\n 	Two Guid
 ed Tours of Washington\, DC\n 	Our Tours feature the WW II Memorial\, Capi
 tol Hill\, Embassy Row\, the Korean War Veterans Memorial\, the Vietnam Ve
 terans Memorial\, the Smithsonian\, the Martin Luther King\, Jr. National 
 Memorial\, the Lincoln Memorial\, and more!\n 	Evening Guided Memorial and
  Monuments Tour\n 	Admission to George Washington's Mount Vernon Estate &a
 mp\; Garden\n 	and much more\n\nView the brochure here:\n\n[gview file="ht
 tps://jhtraveltours.com//wp-content/uploads/2016/10/WashingtonDC.pdf"]\n\n
 View more here:\n\n[gview file="https://jhtraveltours.com//wp-content/uplo
 ads/2016/10/WashDCTravel-Confident-Protection-Plan.pdf"]
ATTACH;FMTTYPE=image/jpeg:https://jhtraveltours.com/wp-content/uploads/201
 6/10/WashingtonDC.png
CATEGORIES:Extended Trip
END:VEVENT
BEGIN:VTIMEZONE
TZID:America/Chicago
X-LIC-LOCATION:America/Chicago
BEGIN:DAYLIGHT
DTSTART:20170312T030000
TZOFFSETFROM:-0600
TZOFFSETTO:-0500
TZNAME:CDT
END:DAYLIGHT
END:VTIMEZONE
END:VCALENDAR