BEGIN:VCALENDAR
VERSION:2.0
PRODID:-//wp-events-plugin.com//7.2.3.1//EN
TZID:America/Chicago
X-WR-TIMEZONE:America/Chicago
BEGIN:VEVENT
UID:238@jhtraveltours.com
DTSTART;TZID=America/Chicago;VALUE=DATE:20180531
DTEND;TZID=America/Chicago;VALUE=DATE:20180607
DTSTAMP:20180804T040711Z
URL:https://jhtraveltours.com/events/washington-dc-nations-capital/
SUMMARY:Washington\, DC - Our Nation's Capital - #_LOCATIONNAME - 31 May 18
  00:00
DESCRIPTION:Your trip to Our Nation's Capital includes:\n\n 	Motorcoach tra
 nsportation\n 	6 nights lodging including 4 consecutive nights in the Wash
 ington\, DC area\n 	10 meals: 6 breakfasts and 4 dinners\n 	Two Guided Tou
 rs of Washington\, DC\n 	Our Tours feature the WW II Memorial\, Capitol Hi
 ll\, Embassy Row\, the Korean War Veterans\nMemorial\, the Vietnam Veteran
 s Memorial\, the Smithsonian\, the Martin Luther King\, Jr. National\nMemo
 rial\, the Lincoln Memorial\, and more!\n 	Evening Guided Memorial and Mon
 uments Tour\n 	Admission to George Washington's Mount Vernon Estate &amp\;
  Garden\n 	Tram Ride through Arlington National Cemetery\n 	and much more!
 \n\n\n\n[gview file="https://jhtraveltours.com//wp-content/uploads/2017/09
 /May31-DC.pdf"]\n\nDay 1: Depart your group's location in a spacious\, vid
 eo and restroom equipped Motorcoach and set off for our Nation's Capital 
 - Washington D.C. Tonight\, check into an en route hotel for a good night'
 s rest.\n\nDay 2: Today\, after enjoying a Continental Breakfast you will 
 continue towards Washington\, D.C. Upon arrival\, enjoy a relaxing Dinner
  and check into your Washington D.C. area hotel for a four night stay.\n\n
 Day 3: Enjoy a Continental Breakfast before departing for a full-day Guide
 d Tour of Washington\, D.C. Some of the awe-inspiring sights on this fant
 astic tour will include the US Capitol\, the White House\, the National A
 rchives\, Embassy Row\, and Georgetown. During the day\, you will see the 
 Washington Monument\, Lincoln Memorial\, the Martin Luther King\, Jr. Nat
 ional Memorial\, and several War Memorials. This evening\, enjoy Dinner at
  a local restaurant before continuing on the Guided Memorial\nand Monument
 s Tour.\n\nDay 4: Begin the day with a Continental Breakfast. Today's Guid
 ed Tour includes such poignant and inspirational sights as Arlington Nati
 onal Cemetery\, including the Tomb of the Unknowns\, and Kennedy Graves\,
  as well as the lwo Jima Memorial. You'll also enjoy a visit to the Smiths
 onian Institution. Later\, you'll enjoy Dinner with entertainment before 
 returning to your hotel for the night.\n\nDay 5: Start your last day in ou
 r Nation's Capital with a Continental Breakfast. This morning you will fi
 nish your series of Guided Tours. This afternoon\, head to George Washingt
 on's Mount Vernon Estate &amp\; Garden. Experience great American history 
 at Mount Vernon. This evening\, enjoy a relaxing Dinner and return to your
  hotel.\n\nDay 6: Enjoy a Continental Breakfast before leaving for the Fli
 ght 93 National Memorial in Stoystown\, PA. This evening\, relax at your 
 en route hotel.\n\nDay 7: Today\, after enjoying a Continental Breakfast\,
  you will depart for home ... a perfect time to chat with your friends ab
 out all the fun things you've done\, the great sights you've seen\, and wh
 ere your next group trip will take you!\n\n[gview file="https://jhtravelto
 urs.com//wp-content/uploads/2017/09/May31-TravelInsuranceFlyer.pdf"]
ATTACH;FMTTYPE=image/jpeg:https://jhtraveltours.com/wp-content/uploads/201
 7/09/WashingtonDCHeader.png
CATEGORIES:Extended Trip
END:VEVENT
BEGIN:VTIMEZONE
TZID:America/Chicago
X-LIC-LOCATION:America/Chicago
BEGIN:DAYLIGHT
DTSTART:20180311T030000
TZOFFSETFROM:-0600
TZOFFSETTO:-0500
TZNAME:CDT
END:DAYLIGHT
END:VTIMEZONE
END:VCALENDAR