BEGIN:VCALENDAR
VERSION:2.0
PRODID:-//wp-events-plugin.com//7.2.3.1//EN
TZID:America/Chicago
X-WR-TIMEZONE:America/Chicago
BEGIN:VEVENT
UID:380@jhtraveltours.com
DTSTART;TZID=America/Chicago;VALUE=DATE:20231019
DTEND;TZID=America/Chicago;VALUE=DATE:20231026
DTSTAMP:20230203T063842Z
URL:https://jhtraveltours.com/events/washington-dc-october-2023/
SUMMARY:Washington\, DC - October 2023 - #_LOCATIONNAME - 19 Oct 23 00:00
DESCRIPTION:[pdf-embedder url="https://jhtraveltours.com/wp-content/uploads
 /2022/09/Washington-DC-2023-2.pdf" title="Washington DC October"]\n\nDownl
 oad the brochure\n\n&nbsp\;\n\nInsurance flyer:\n\n[pdf-embedder url="http
 s://jhtraveltours.com/wp-content/uploads/2022/09/TravelConfidentFlyer-1.pd
 f" title="Travel INS OCT 2023"]\n\nDownload Insurance Flyer\n\n&nbsp\;\n\n
 &nbsp\;\nSign up for our newsletter to get exclusive information!\n[mc4wp_
 form id=648]\n\n&nbsp\;
ATTACH;FMTTYPE=image/jpeg:https://jhtraveltours.com/wp-content/uploads/202
 2/09/wsahington.jpg
CATEGORIES:Extended Trip
END:VEVENT
BEGIN:VTIMEZONE
TZID:America/Chicago
X-LIC-LOCATION:America/Chicago
BEGIN:DAYLIGHT
DTSTART:20230312T030000
TZOFFSETFROM:-0600
TZOFFSETTO:-0500
TZNAME:CDT
END:DAYLIGHT
END:VTIMEZONE
END:VCALENDAR