BEGIN:VCALENDAR
VERSION:2.0
PRODID:-//wp-events-plugin.com//7.2.3.1//EN
TZID:America/Chicago
X-WR-TIMEZONE:America/Chicago
BEGIN:VEVENT
UID:264@jhtraveltours.com
DTSTART;TZID=America/Chicago:20190530T000000
DTEND;TZID=America/Chicago:20190605T000000
DTSTAMP:20181016T033415Z
URL:https://jhtraveltours.com/events/washington-dc-our-nations-capital-201
 9/
SUMMARY:Washington\, DC - Our Nation's Capital 2019 - #_LOCATIONNAME - 30 M
 ay 19 00:00
DESCRIPTION:&nbsp\;\n\n[gview file="https://jhtraveltours.com/wp-content/up
 loads/2018/04/1482707-6J03061303_MOD_2.pdf"]\n\n[gview file="https://jhtra
 veltours.com/wp-content/uploads/2018/04/TravelInsuranceFlyer.pdf"]
ATTACH;FMTTYPE=image/jpeg:https://jhtraveltours.com/wp-content/uploads/201
 8/04/WashingtonDC2019.png
CATEGORIES:Day Trip
END:VEVENT
BEGIN:VTIMEZONE
TZID:America/Chicago
X-LIC-LOCATION:America/Chicago
BEGIN:DAYLIGHT
DTSTART:20190310T030000
TZOFFSETFROM:-0600
TZOFFSETTO:-0500
TZNAME:CDT
END:DAYLIGHT
END:VTIMEZONE
END:VCALENDAR