BEGIN:VCALENDAR
VERSION:2.0
PRODID:-//wp-events-plugin.com//7.2.3.1//EN
TZID:America/Chicago
X-WR-TIMEZONE:America/Chicago
BEGIN:VEVENT
UID:371@jhtraveltours.com
DTSTART;TZID=America/Chicago;VALUE=DATE:20230601
DTEND;TZID=America/Chicago;VALUE=DATE:20230608
DTSTAMP:20230203T063415Z
URL:https://jhtraveltours.com/events/washington-dc/
SUMMARY:Washington DC - #_LOCATIONNAME - 1 Jun 23 00:00
DESCRIPTION:[pdf-embedder url="https://jhtraveltours.com/wp-content/uploads
 /2022/03/Washington-DC-2023.pdf" title="Washington DC 2023"]\n\nTrip insur
 ance flyer:\n\n[pdf-embedder url="https://jhtraveltours.com/wp-content/upl
 oads/2022/03/TravelConfidentFlyer.pdf"]\n\nDownload Insurance Flyer\n\n&nb
 sp\;\n\n&nbsp\;\nSign up for our newsletter to get exclusive information!\
 n[mc4wp_form id=648]
ATTACH;FMTTYPE=image/jpeg:https://jhtraveltours.com/wp-content/uploads/202
 2/03/wsahington.jpg
CATEGORIES:Extended Trip
END:VEVENT
BEGIN:VTIMEZONE
TZID:America/Chicago
X-LIC-LOCATION:America/Chicago
BEGIN:DAYLIGHT
DTSTART:20230312T030000
TZOFFSETFROM:-0600
TZOFFSETTO:-0500
TZNAME:CDT
END:DAYLIGHT
END:VTIMEZONE
END:VCALENDAR