BEGIN:VCALENDAR
VERSION:2.0
PRODID:-//wp-events-plugin.com//7.2.3.1//EN
TZID:America/Chicago
X-WR-TIMEZONE:America/Chicago
BEGIN:VEVENT
UID:252@jhtraveltours.com
DTSTART;TZID=America/Chicago:20180414T061500
DTEND;TZID=America/Chicago:20180415T200000
DTSTAMP:20180109T042555Z
URL:https://jhtraveltours.com/events/wine-shine-brew/
SUMMARY:Wine\, Shine\, & Brew - #_LOCATIONNAME - 14 Apr 18 06:15
DESCRIPTION:We have added a bit of a twist to our annual "Wine Trail Weeken
 d" with a brewery tour with food pairings\, moonshine sampling &amp\; of c
 ourse\, wine tasting!\n\nWe will begin our morning at the Kava House locat
 ed in Swisher\, IA with a breakfast casserole\, cinnamon roll and fruit. S
 it back and relax a bit before arriving at Creekside Winery located by Pre
 emption\, IL for wine tasting among the tanks at the winery! Sip and savor
  the wine before boarding  the coach in traveling to Lavender Crest Winer
 y located by Colona\, IL. A relaxing lunch in their dining room followed b
 y a wine tour of the production facility with wine tastings and a gift sho
 p to check out before we board the coach to travel to Utica\, IL. We will 
 have a bit of time to drop off our luggage at Grand Bear Resort before dep
 arting for our brewery tour at Ottawa\, IL. The Tangled Roots Brewing Co w
 elcomes our group for a tour that will show the bottling\, copper kettles 
 used for the beer and a great overall understanding of the art of beer mak
 ing. Following the tour everyone will experience 4 different beers with fo
 od pairings of chicken\, beef tenderloin &amp\; salmon with the Executive 
 Chef. Dessert will be served and then some free time for purchasing beer o
 r to check out the retail area for a souvenir from visiting the brewery. R
 eturn to the hotel for a relaxing evening.\n\nOur day will begin with brea
 kfast at the hotel before packing up to depart. Onto wine tasting at Augus
 t Hill Winery located in Utica\, IL for sip and savor time!  You may even
  try a wine slushy! Next on the itinerary is a bit of chocolate &amp\; fla
 vored popcorn with a visit to Roxie's Sweet Confections and Flutter By Gou
 rmet Popcorn! Really . .  you just have to try the banana creme pie flavo
 red popcorn! We then travel back to August Hill Winery for lunch with a gl
 ass of wine. Our last stop will be a visit to Jamie's OutPost Parlor where
  a program will be given on Moonshine and everyone will have a chance to t
 ry flavored Moonshine with some free time in this unique store. Before we 
 depart everyone may walk across the street to Nonie's Bakery for dessert &
 amp\; bottled water or soda before departing for our journey back to Newto
 n with great memories of our "Wine\, Shine &amp\; Brew" trip! A fast food 
 stop/restroom break will be taken along the way back.\n\nTour includes: mo
 tor coach transportation\, overnight accommodation at Grand Bear Resort\, 
 5 meals (2 breakfasts\, 2 lunches\, 1 evening meal) and dessert at Nonie's
 \, wine tastings at 3 wineries\, brewery tour\, moonshine sampling\, all t
 axes &amp\; gratuities on the above mentioned attractions &amp\; meals. An
 d\, all the fun along the way!\n\nDepart:  6:15 a.m. - April 14\, 2018\nR
 eturn: 8:00 p.m.  - April 15\, 2018\n\nCost Per Person:\n$428.00 Quad\n$4
 42.00 Triple\n$467.00 Double\n$555.00 Single\n\nA deposit in the amount of
  $150.00 will be due at the time of signup. Final balance will be due prom
 ptly  by March 7\, 2018.
ATTACH;FMTTYPE=image/jpeg:https://jhtraveltours.com/wp-content/uploads/201
 8/01/Wine-Shine-Brew-Header.png
CATEGORIES:Short Trip
END:VEVENT
BEGIN:VTIMEZONE
TZID:America/Chicago
X-LIC-LOCATION:America/Chicago
BEGIN:DAYLIGHT
DTSTART:20180311T030000
TZOFFSETFROM:-0600
TZOFFSETTO:-0500
TZNAME:CDT
END:DAYLIGHT
END:VTIMEZONE
END:VCALENDAR