BEGIN:VCALENDAR
VERSION:2.0
PRODID:-//wp-events-plugin.com//7.2.3.1//EN
TZID:America/Chicago
X-WR-TIMEZONE:America/Chicago
BEGIN:VEVENT
UID:173@jhtraveltours.com
DTSTART;TZID=America/Chicago:20160409T060000
DTEND;TZID=America/Chicago:20160410T200000
DTSTAMP:20160104T043844Z
URL:https://jhtraveltours.com/events/wine-trail-weekend-2016/
SUMMARY:Wine Trail Weekend 2016 - #_LOCATIONNAME - 9 Apr 16 06:00
DESCRIPTION:Join JH Travel on a relaxing spring weekend getaway to enjoy wi
 ne\, food\, accommodations at The DeSoto House Hotel and the opportunity t
 o meet new friends!\n\n\n\nLooking forward to having you join JH Travel fo
 r a wonderful wine weekend getaway traveling to Illinois &amp\; Wisconsin!
   \n\nWe will begin by boarding a Hawkeye Stages motor coach and travelin
 g onto Illinois with a morning snack along the way! Forget about your worr
 ies as we visit "Fergedaboutit Vineyard &amp\; Winery"  in Hanover\, IL f
 or wine tasting along with samples of wine freezes and wine drizzle.  Mov
 ing onto to Rocky Waters Vineyard &amp\; Winery which was named by a conte
 st amongst grandchildren also in Hanover\, IL where a lunch will be provid
 ed  with wine tasting.  We travel onto Galena\, IL for some retail thera
 py or perhaps to enjoy a pre-scheduled massage (if you are interested in t
 his please contact me for information).  Board the coach late afternoon f
 or a visit to the Barrel Head Winery for a little fun with the owner durin
 g the wine tasting.  Our evening meal is scheduled at the Timmerman's Sup
 per Club in East Dubuque with three choices being offered as in: chicken c
 ordon bleu with rice or grilled salmon with potato or 10 oz rib eye steak 
 with potato - each meal will be served with salad\, rolls\, non-alcoholic 
 drink and dessert.  (Your evening meal choice needs to be given at the ti
 me of the reservation).  And\, back to hotel for a night of peaceful rest
 ! \n\nThe next morning you will be a guest at Courtyard Restaurant located
  in The DeSoto House Hotel for Sunday Brunch before departing to begin our
  day.  Our first winery is Stone Cliff Winery where the logo declares "Wh
 ere Grand Wines and Grand Times are Made Daily" which is located in the hi
 storic Star Brewery building in Dubuque.  Our second winery for the day i
 s Bauer-Kearns Winery located outside of Platteville\, WI where wine will 
 be sampled along with cheese &amp\; chocolates.  Traveling onto to Potosi
 \, WI where the group will be divided with half going to lunch at Potosi B
 rewing Co where you may chose from several choices of main entrees and win
 e tasting at Whispering Bluffs Winery - located just across the street fro
 m the Potosi Brewing Co.  which incidentally is home to the National Brew
 ery &amp\; Museum.  After lunch and wine tasting we travel to Kieler\, WI
  for our last winery stop at Sinnipee Valley Vineyard &amp\; Winery for wi
 ne tasting &amp\; tour.  It is now time to begin our journey back to Newt
 on with a fast food stop (on your own) along the way with great memories o
 f our annual "Wine Trail Weekend"!   \n\nTour includes:  motor coach tr
 ansportation\, overnight accommodations at The DeSoto House Hotel\, 4 meal
 s (1 brunch\, two lunches and one dinner) &amp\; wine tastings at 7 wineri
 es\, 1 morning snack\, all taxes and gratuities on the above mentioned att
 ractions.  And\, all the fun along the way! \n\nDepart:  6:00a.m. - Apri
 l 9\, 2016 Return:  8:00 p.m.. - April 10\, 2016\n\nCost Per Person:\n\n	
 $417.00 Quad\n	$427.00 Triple\n	$449.00 Double\n	$529.00 Single\n\nA depos
 it in the amount of $150 will be due at the time of reservation. Final bal
 ance is due by March 1\, 2016.
ATTACH;FMTTYPE=image/jpeg:https://jhtraveltours.com/wp-content/uploads/201
 6/01/Wine-Trail-Weekend-2016.jpg
CATEGORIES:Short Trip
END:VEVENT
BEGIN:VTIMEZONE
TZID:America/Chicago
X-LIC-LOCATION:America/Chicago
BEGIN:DAYLIGHT
DTSTART:20160313T030000
TZOFFSETFROM:-0600
TZOFFSETTO:-0500
TZNAME:CDT
END:DAYLIGHT
END:VTIMEZONE
END:VCALENDAR