BEGIN:VCALENDAR
VERSION:2.0
PRODID:-//wp-events-plugin.com//7.2.3.1//EN
TZID:America/Chicago
X-WR-TIMEZONE:America/Chicago
BEGIN:VEVENT
UID:215@jhtraveltours.com
DTSTART;TZID=America/Chicago:20170408T054500
DTEND;TZID=America/Chicago:20170409T201500
DTSTAMP:20170105T172816Z
URL:https://jhtraveltours.com/events/wine-trail-weekend-2017/
SUMMARY:Wine Trail Weekend 2017 - #_LOCATIONNAME - 8 Apr 17 05:45
DESCRIPTION:Join JH Travel on a relaxing spring weekend getaway to enjoy wi
 ne\, food\, accommodations at the St. James Hotel in Red Wing\, MN and the
  opportunity to meet new friends! Looking forward to having you join JH Tr
 avel for a wonderful wine weekend getaway traveling to Wisconsin &amp\; Mi
 nnesota!\nWe will begin our morning at John Ernest Vineyard &amp\; Winery 
 by Tama with croissants &amp\; jam\, a wine tour with tasting along with g
 ift shop time.  Board the coach for the destination of Fountain City\, WI
  which is nestled in the bluffs by the Mississippi River.  Our group will
  divide up with wine tasting at Seven Hawks Vineyard and the other half wi
 ll be served lunch at Monarch Public House. This Irish pub &amp\; restaura
 nt has been continuously open for business since 1894 that still features 
 the original carved oak back bar\, ornate pressed ceilings - also check ou
 t The Absolute Rock Bottom Pub! Lunch will be have four choices that inclu
 de:  1).  Three piece fish &amp\; chips (Fries) - lightly battered cod f
 ilets over Irish Fries with homemade tartar sauce and coleslaw 2).  Ruebe
 n and Soup - very tender\, hand pulled corned beef Rueben on toasted marbl
 e rye\, with traditional sauerkraut and 1000 Island sauce. A cup of our Ir
 ish Potato Soup 3). Bangers and Mash - 150 year old family recipe Irish Sa
 usages (2) Irish Champ mashed potatoes and Jacks Baked Beans. Side of Bist
 ro Pub Mustard 4).BBQ Chicken Sandwich plate - sweet BBQ sauce over grille
 d\, pulled chicken on a bakery ciabatta bun. Sides include coleslaw and p
 otato salad.  Served with coffee\, ice tea\, hot tea or soda. (Your lunch
  choice needs to be given at the time of signup).  Our next stop will be 
 at St. James Hotel for some relaxation or shopping time.  Our evening pla
 ns include a visit to Villa Bellezza\, which is a classical Mediterranean 
 style winery and is named from the Italian word for beauty and located by 
 Pepin\, WI. Our evening begins with wood oven pizza with a private wine ta
 sting along with a tour showing the Piazza\, Reception Hall and will be gi
 ven detailed information from the start to finish of the making of their w
 ine!\n\nBreakfast will be served in the Victorian Room before departing to
  visit Danzinger Winery which has more than 8\,000 plants and a family bus
 iness along the Mississippi River. Lunch will be served at Nelson Cheese F
 actory with some browsing time before we travel onto wine tasting along wi
 th a power point presentation showing the history &amp\; wine making at Ga
 rvin Heights Vineyards by Winona\, MN. Our last wine tasting will be Elmar
 o Vineyards before making our journey back to Newton with great memories o
 f the annual "Wine Trail Weekend"! A fast food stop/restroom break will be
  taken along back. **THIS TRIP IS LIMITED TO 32 TRAVELERS.\n\nTour include
 s:  motor coach transportation\, overnight accommodations at St. James Ho
 tel\, 4 meals (1 breakfast\, 2 lunches and one dinner)\, wine tastings at 
 6 wineries\, 1 morning snack\, all taxes &amp\; gratuities on the above me
 ntioned attractions &amp\; meals.  And\, all the fun along the way!\n\nDe
 part:  5:45 a.m. - April 8\, 2017\nReturn:  8:15 p.m. - April 9\, 2017\n
 \nCost Per Person:\n\n$461.00 Quad\n\n$472.00 Triple\n\n$498.00 Double\n\n
 $578.00 Single\n\nA deposit in the amount of $150.00 will be due at the ti
 me of signup.  Final balance will be due promptly by March 1\, 2017. 
ATTACH;FMTTYPE=image/jpeg:https://jhtraveltours.com/wp-content/uploads/201
 7/01/Wine-Trail-Weekend-2017-1.png
CATEGORIES:Short Trip
END:VEVENT
BEGIN:VTIMEZONE
TZID:America/Chicago
X-LIC-LOCATION:America/Chicago
BEGIN:DAYLIGHT
DTSTART:20170312T030000
TZOFFSETFROM:-0600
TZOFFSETTO:-0500
TZNAME:CDT
END:DAYLIGHT
END:VTIMEZONE
END:VCALENDAR