BEGIN:VCALENDAR
VERSION:2.0
PRODID:-//wp-events-plugin.com//7.2.3.1//EN
TZID:America/Chicago
X-WR-TIMEZONE:America/Chicago
BEGIN:VEVENT
UID:172@jhtraveltours.com
DTSTART;TZID=America/Chicago:20161207T121500
DTEND;TZID=America/Chicago:20161207T184500
DTSTAMP:20161003T011412Z
URL:https://jhtraveltours.com/events/winter-wonderettes/
SUMMARY:Winter Wonderettes - #_LOCATIONNAME - 7 Dec 16 12:15
DESCRIPTION:December 7\, 2016 (Wednesday)\n\nJoin JH Travel for an afternoo
 n of entertainment with the "Winter Wonderettes" and an evening meal at t
 he Ronnenburg Restaurant!\n\nSit back and relax for this matinee show at t
 he Old Creamery Theatre with our premium seating!\n\nThis seasonal celebra
 tion finds the "Wonderettes"\, a 1960's girl group entertaining at the ann
 ual Harper's Hardware Holiday Party in 1968. When Santa turns up missing\
 , the girls use their talent and creative ingenuity to save the holiday p
 arty! Featuring great 60's versions of holiday classics such as "Santa Cl
 aus is Comin' to Town"\, "Jingle Bell Rock"\, "Run\, Rudolph\, Run" and "
 Winter Wonderland"\, the result is\, marvelous! This energetic and glitter
 ing holiday package is guaranteed to delight all audiences!\n\nYour favor
 ite Amana fixings' will be served family style at the Ronnenburg Restauran
 t following the show. So\, make sure to bring along your appetite! Hope t
 o have you join us!\n\nDepart: 12:15 p.m.\n\nReturn: 6:45 p.m.\n\nCost Per
  Person: $103.00\n\nReservation and payment due by November 18\, 2016
ATTACH;FMTTYPE=image/jpeg:https://jhtraveltours.com/wp-content/uploads/201
 5/11/WinterWonderttes_slideOldCreameryTheatre.jpg
CATEGORIES:Day Trip
END:VEVENT
BEGIN:VTIMEZONE
TZID:America/Chicago
X-LIC-LOCATION:America/Chicago
BEGIN:STANDARD
DTSTART:20161106T010000
TZOFFSETFROM:-0500
TZOFFSETTO:-0600
TZNAME:CST
END:STANDARD
END:VTIMEZONE
END:VCALENDAR