BEGIN:VCALENDAR
VERSION:2.0
PRODID:-//wp-events-plugin.com//7.2.3.1//EN
TZID:America/Chicago
X-WR-TIMEZONE:America/Chicago
BEGIN:VEVENT
UID:356@jhtraveltours.com
DTSTART;TZID=America/Chicago:20211117T091500
DTEND;TZID=America/Chicago:20211117T184500
DTSTAMP:20210810T012229Z
URL:https://jhtraveltours.com/events/winter-wonderland-2021/
SUMMARY:Winter Wonderland 2021 - #_LOCATIONNAME - 17 Nov 21 09:15
DESCRIPTION:"Winter Wonderland"\n\nNovember 17\, 2021 (Wednesday) \n\nEnjoy
  the magic of an old-fashioned holiday with JH Travel as Circa 21 Dinner P
 layhouse hosts our group for a matinee show that will be sure to tug at yo
 ur heart strings!\n\nIn this heartwarming new musical\, a dad’s wish to
  celebrate an old-fashioned Christmas leads him and his family on a magi
 cal journey to another time where he learns that while remembering the pa
 st is important\, the best way to hold on to tradition is to enjoy the C
 hristmas present!  This one-of-a-kind show\, written for Circa ‘21 by 
 longtime Bootlegger Brad Hauskins\, is a nostalgic celebration of family 
 that will leave you filled with the peace and joy of the holidays.\n\nJoi
 n JH Travel and our traveling friends as we welcome in the holiday season 
 with this beautiful Christmas story!\n\nDepart:  9:15 a.m.\n\nReturn:  6
 :45 p.m.\n\nCost Per Person:  $145.00\n\nReservation and payment due by O
 ctober 12\, 2021 
CATEGORIES:Day Trip
END:VEVENT
BEGIN:VTIMEZONE
TZID:America/Chicago
X-LIC-LOCATION:America/Chicago
BEGIN:STANDARD
DTSTART:20211107T010000
TZOFFSETFROM:-0500
TZOFFSETTO:-0600
TZNAME:CST
END:STANDARD
END:VTIMEZONE
END:VCALENDAR