BEGIN:VCALENDAR
VERSION:2.0
PRODID:-//wp-events-plugin.com//7.2.3.1//EN
TZID:America/Chicago
X-WR-TIMEZONE:America/Chicago
BEGIN:VEVENT
UID:377@jhtraveltours.com
DTSTART;TZID=America/Chicago;VALUE=DATE:20230215
DTEND;TZID=America/Chicago;VALUE=DATE:20230303
DTSTAMP:20230203T062533Z
URL:https://jhtraveltours.com/events/wonders-of-australia-and-new-zealand/
SUMMARY:Wonders of Australia and New Zealand - #_LOCATIONNAME - 15 Feb 23 0
 0:00
DESCRIPTION:[pdf-embedder url="https://jhtraveltours.com/wp-content/uploads
 /2022/07/2023-Wonders-Australia-New-Zealand.pdf" title="2023 Wonders Austr
 alia New Zealand"]\n\nDownload brochure\n\n&nbsp\;\n\n&nbsp\;\nSign up for
  our newsletter to get exclusive information!\n[mc4wp_form id=648]
ATTACH;FMTTYPE=image/jpeg:https://jhtraveltours.com/wp-content/uploads/202
 2/07/sydney_harbor_header.jpg
CATEGORIES:Extended Trip
END:VEVENT
BEGIN:VTIMEZONE
TZID:America/Chicago
X-LIC-LOCATION:America/Chicago
BEGIN:STANDARD
DTSTART:20221106T010000
TZOFFSETFROM:-0500
TZOFFSETTO:-0600
TZNAME:CST
END:STANDARD
END:VTIMEZONE
END:VCALENDAR